BEGIN:VCALENDAR
PRODID:-//eluceo/ical//2.0/EN
VERSION:2.0
CALSCALE:GREGORIAN
BEGIN:VEVENT
UID:event-644
DTSTAMP:20260424T140548Z
SUMMARY:Active Members BBQ
DESCRIPTION:After months of hard work\, successful events\, and legendary c
 ommittee meetings\, it’s time to kick back and trade the boardroom for t
 he grill. The PAC is hosting the Active Members BBQ\, and you’re invited
  to join up for an evening of good food\, cold drinks\, and even better co
 mpany. Whether you're there for the perfectly charred burgers (or veggie a
 lternatives!) or just to catch up with your fellow MARUGgers outside of a 
 formal setting\, this is the perfect way to celebrate everything we've ach
 ieved together so far. Why you should be there: The Food: A variety of BBQ
  classics and vegetarian options to keep everyone fueled. The Network: A r
 elaxed atmosphere to connect with members from every committee. The Vibes:
  Music\, sunshine (hopefully!)\, and the best community in Groningen.
DTSTART:20260518T150000Z
DTEND:20260518T200000Z
END:VEVENT
BEGIN:VTIMEZONE
TZID:UTC
BEGIN:STANDARD
DTSTART:20260518T150000
TZNAME:UTC
TZOFFSETTO:+0000
TZOFFSETFROM:+0000
END:STANDARD
END:VTIMEZONE
END:VCALENDAR
